BEGIN:VCALENDAR
VERSION:2.0
PRODID:-//Compassionate Hearts - ECPv6.15.20//NONSGML v1.0//EN
CALSCALE:GREGORIAN
METHOD:PUBLISH
X-WR-CALNAME:Compassionate Hearts
X-ORIGINAL-URL:https://compassionateheartscharity.org
X-WR-CALDESC:Events for Compassionate Hearts
REFRESH-INTERVAL;VALUE=DURATION:PT1H
X-Robots-Tag:noindex
X-PUBLISHED-TTL:PT1H
BEGIN:VTIMEZONE
TZID:America/Toronto
BEGIN:DAYLIGHT
TZOFFSETFROM:-0500
TZOFFSETTO:-0400
TZNAME:EDT
DTSTART:20250309T070000
END:DAYLIGHT
BEGIN:STANDARD
TZOFFSETFROM:-0400
TZOFFSETTO:-0500
TZNAME:EST
DTSTART:20251102T060000
END:STANDARD
BEGIN:DAYLIGHT
TZOFFSETFROM:-0500
TZOFFSETTO:-0400
TZNAME:EDT
DTSTART:20260308T070000
END:DAYLIGHT
BEGIN:STANDARD
TZOFFSETFROM:-0400
TZOFFSETTO:-0500
TZNAME:EST
DTSTART:20261101T060000
END:STANDARD
BEGIN:DAYLIGHT
TZOFFSETFROM:-0500
TZOFFSETTO:-0400
TZNAME:EDT
DTSTART:20270314T070000
END:DAYLIGHT
BEGIN:STANDARD
TZOFFSETFROM:-0400
TZOFFSETTO:-0500
TZNAME:EST
DTSTART:20271107T060000
END:STANDARD
END:VTIMEZONE
BEGIN:VTIMEZONE
TZID:UTC
BEGIN:STANDARD
TZOFFSETFROM:+0000
TZOFFSETTO:+0000
TZNAME:UTC
DTSTART:20240101T000000
END:STANDARD
END:VTIMEZONE
BEGIN:VEVENT
DTSTART;TZID=America/Toronto:20260529T180000
DTEND;TZID=America/Toronto:20260529T210000
DTSTAMP:20260419T184225
CREATED:20260417T184940Z
LAST-MODIFIED:20260419T005100Z
UID:30782-1780077600-1780088400@compassionateheartscharity.org
SUMMARY:Lotion Making Workshop
DESCRIPTION:Unleash your creativity and explore new artistic techniques. Led by Jacqueline Solomon. By donations only (suggested amount $80). All proceeds go to Compassionate Hearts. \nTo RSVP\, please fill out this registration form.
URL:https://compassionateheartscharity.org/event/lotion-making-workshop/
LOCATION:Spring Garden Baptist Church\, 112 Spring Garden Avenue\, North York\, Ontario\, M2N 3G3\, Canada
CATEGORIES:Charity
ATTACH;FMTTYPE=image/jpeg:https://compassionateheartscharity.org/wp-content/uploads/2026/04/lotion-making.jpg
ORGANIZER;CN="Alice":MAILTO:alice@compassionateheartscharity.org
END:VEVENT
BEGIN:VEVENT
DTSTART;TZID=UTC:20260418T183000
DTEND;TZID=UTC:20260418T213000
DTSTAMP:20260419T184225
CREATED:20200504T220421Z
LAST-MODIFIED:20260417T153101Z
UID:1737-1776537000-1776547800@compassionateheartscharity.org
SUMMARY:Quilling Workshop
DESCRIPTION:Quilling is the art of rolling\, shaping\, and gluing narrow paper strips into intricate\, three-dimensional designs. A gentle\, therapeutic art of paper rolling that invites you to slow down\, breathe\, and create something meaningful. It’s peaceful. It’s beautiful. And it carries purpose. \nTo RSVP\, please fill out this registration form.
URL:https://compassionateheartscharity.org/event/quilling-workshop/
LOCATION:Ontario
CATEGORIES:Charity
ATTACH;FMTTYPE=image/jpeg:https://compassionateheartscharity.org/wp-content/uploads/2020/05/quilling.jpg
ORGANIZER;CN="Alice":MAILTO:alice@compassionateheartscharity.org
END:VEVENT
BEGIN:VEVENT
DTSTART;TZID=America/Toronto:20260327T180000
DTEND;TZID=America/Toronto:20260327T210000
DTSTAMP:20260419T184225
CREATED:20260417T023053Z
LAST-MODIFIED:20260417T195454Z
UID:30739-1774634400-1774645200@compassionateheartscharity.org
SUMMARY:Homemade Soap Making
DESCRIPTION:Take home up to 5 organic soap bars. Led by Jacqueline Solomon. By donations only (suggested amount $50). All proceeds go to Compassionate Hearts.
URL:https://compassionateheartscharity.org/event/homemade-soap-making/
LOCATION:Spring Garden Baptist Church\, 112 Spring Garden Avenue\, North York\, Ontario\, M2N 3G3\, Canada
CATEGORIES:Charity
ATTACH;FMTTYPE=image/jpeg:https://compassionateheartscharity.org/wp-content/uploads/2026/04/soapmaking.jpg
ORGANIZER;CN="Alice":MAILTO:alice@compassionateheartscharity.org
END:VEVENT
BEGIN:VEVENT
DTSTART;TZID=America/Toronto:20260221T130000
DTEND;TZID=America/Toronto:20260221T150000
DTSTAMP:20260419T184225
CREATED:20260417T030330Z
LAST-MODIFIED:20260417T030921Z
UID:30745-1771678800-1771686000@compassionateheartscharity.org
SUMMARY:Red Velvet Sandwich Cookies
DESCRIPTION:Bring your own mixing bowls & mixing spoon. Take your cookie dough home with you. Limited to 10 spots.
URL:https://compassionateheartscharity.org/event/red-velvet-sandwich-cookies/
LOCATION:Ontario
CATEGORIES:Charity
ATTACH;FMTTYPE=image/jpeg:https://compassionateheartscharity.org/wp-content/uploads/2026/04/red-velvet.jpg
ORGANIZER;CN="Alice":MAILTO:alice@compassionateheartscharity.org
END:VEVENT
BEGIN:VEVENT
DTSTART;TZID=UTC:20251115T090000
DTEND;TZID=UTC:20251115T130000
DTSTAMP:20260419T184225
CREATED:20200504T221127Z
LAST-MODIFIED:20260417T032954Z
UID:1741-1763197200-1763211600@compassionateheartscharity.org
SUMMARY:Donation Drive
DESCRIPTION:On November 15\, Spring Garden Baptist Church in Toronto\, Canada is hosting a donation drive for Compassionate Hearts. Our goal is to raise $1000 which is the equivalent of 250 large yard bags (average 20 lbs) and 75 medium boxes (house hold items). \nEvery effort\, big or small\, goes toward ending the cycle of hunger and building stronger\, more resourceful households. Together\, we can plant the seeds of hope and watch families grow.  \nClothes\nMen’s\, women’s\, & children’s clothes\, coats\, shoes\, scarves\, handbags\, wallets\, fashion accessories\, belts\, backpacks\, etc. \nHousehold Textiles\nBedding\, comforters\, blankets\, sheets\, towels\, linen\, tablecloths\, curtains\, pillows\, etc. \nSmall House Goods\nKitchen items (pots/pans\, dishes\, silverware\, glasses\, serving pieces and hand-held appliances)\, home decorative items\, knick-knacks\, toys\, games\, and small electronics. \nBooks & Media\nPaperback\, hard cover – all genres *media needs to be boxed separately *no encyclopedias or text books. \n   
URL:https://compassionateheartscharity.org/event/africa-inland-mission/
LOCATION:Spring Garden Baptist Church\, 112 Spring Garden Avenue\, North York\, Ontario\, M2N 3G3\, Canada
CATEGORIES:Charity
ATTACH;FMTTYPE=image/jpeg:https://compassionateheartscharity.org/wp-content/uploads/2020/05/donation-clothing.jpg
ORGANIZER;CN="Alice":MAILTO:alice@compassionateheartscharity.org
END:VEVENT
END:VCALENDAR